Package: EBarrays Version: 2.71.0 Command: /home/rapidbuild/bbs-3.21-bioc-rapid/R/bin/R CMD check --install=check:EBarrays.install-out.txt --library=/home/rapidbuild/bbs-3.21-bioc-rapid/R/site-library --timings EBarrays_2.71.0.tar.gz StartedAt: 2025-02-11 08:28:46 -0500 (Tue, 11 Feb 2025) EndedAt: 2025-02-11 08:29:40 -0500 (Tue, 11 Feb 2025) EllapsedTime: 54.0 seconds RetCode: 0 Status: OK CheckDir: EBarrays.Rcheck Warnings: 0