Package: EBarrays Version: 2.71.0 Command: /home/rapidbuild/bbs-3.21-bioc-rapid/R/bin/R CMD INSTALL EBarrays StartedAt: 2025-02-11 06:09:14 -0500 (Tue, 11 Feb 2025) EndedAt: 2025-02-11 06:09:19 -0500 (Tue, 11 Feb 2025) EllapsedTime: 5.0 seconds RetCode: 0 Status: OK