Package: ExperimentHubData Version: 1.33.0 Command: /home/rapidbuild/bbs-3.21-bioc-rapid/R/bin/R CMD build --keep-empty-dirs --no-resave-data ExperimentHubData StartedAt: 2025-02-05 06:48:59 -0500 (Wed, 05 Feb 2025) EndedAt: 2025-02-05 06:49:38 -0500 (Wed, 05 Feb 2025) EllapsedTime: 39.0 seconds RetCode: 0 Status: OK PackageFile: ExperimentHubData_1.33.0.tar.gz PackageFileSize: 223 KiB