Package: ExperimentHubData Version: 1.33.0 Command: /home/rapidbuild/bbs-3.21-bioc-rapid/R/bin/R CMD INSTALL ExperimentHubData StartedAt: 2025-02-05 06:27:00 -0500 (Wed, 05 Feb 2025) EndedAt: 2025-02-05 06:27:37 -0500 (Wed, 05 Feb 2025) EllapsedTime: 36.6 seconds RetCode: 0 Status: OK