Package: GSEABase Version: 1.69.1 Command: /home/rapidbuild/bbs-3.21-bioc-rapid/R/bin/R CMD check --install=check:GSEABase.install-out.txt --library=/home/rapidbuild/bbs-3.21-bioc-rapid/R/site-library --timings GSEABase_1.69.1.tar.gz StartedAt: 2025-02-13 14:32:34 -0500 (Thu, 13 Feb 2025) EndedAt: 2025-02-13 14:34:44 -0500 (Thu, 13 Feb 2025) EllapsedTime: 129.6 seconds RetCode: 0 Status: OK CheckDir: GSEABase.Rcheck Warnings: 0