Package: GenomicAlignments Version: 1.43.0 Command: /home/rapidbuild/bbs-3.21-bioc-rapid/R/bin/R CMD INSTALL GenomicAlignments StartedAt: 2025-02-10 06:23:59 -0500 (Mon, 10 Feb 2025) EndedAt: 2025-02-10 06:24:29 -0500 (Mon, 10 Feb 2025) EllapsedTime: 29.7 seconds RetCode: 0 Status: OK