Package: GenomicFeatures Version: 1.59.1 Command: /home/rapidbuild/bbs-3.21-bioc-rapid/R/bin/R CMD build --keep-empty-dirs --no-resave-data GenomicFeatures StartedAt: 2025-02-10 06:59:24 -0500 (Mon, 10 Feb 2025) EndedAt: 2025-02-10 07:00:28 -0500 (Mon, 10 Feb 2025) EllapsedTime: 64.3 seconds RetCode: 0 Status: OK PackageFile: GenomicFeatures_1.59.1.tar.gz PackageFileSize: 556 KiB