Package: GenomicFeatures Version: 1.59.1 Command: /home/rapidbuild/bbs-3.21-bioc-rapid/R/bin/R CMD check --install=check:GenomicFeatures.install-out.txt --library=/home/rapidbuild/bbs-3.21-bioc-rapid/R/site-library --timings GenomicFeatures_1.59.1.tar.gz StartedAt: 2025-02-10 08:46:54 -0500 (Mon, 10 Feb 2025) EndedAt: 2025-02-10 08:54:22 -0500 (Mon, 10 Feb 2025) EllapsedTime: 447.6 seconds RetCode: 0 Status: OK CheckDir: GenomicFeatures.Rcheck Warnings: 0