Package: MassSpecWavelet Version: 1.73.1 Command: /home/rapidbuild/bbs-3.21-bioc-rapid/R/bin/R CMD build --keep-empty-dirs --no-resave-data MassSpecWavelet StartedAt: 2025-02-10 07:12:09 -0500 (Mon, 10 Feb 2025) EndedAt: 2025-02-10 07:13:13 -0500 (Mon, 10 Feb 2025) EllapsedTime: 64.0 seconds RetCode: 0 Status: OK PackageFile: MassSpecWavelet_1.73.1.tar.gz PackageFileSize: 2.169 MiB