Package: MassSpecWavelet Version: 1.73.1 Command: /home/rapidbuild/bbs-3.21-bioc-rapid/R/bin/R CMD check --install=check:MassSpecWavelet.install-out.txt --library=/home/rapidbuild/bbs-3.21-bioc-rapid/R/site-library --timings MassSpecWavelet_1.73.1.tar.gz StartedAt: 2025-02-10 09:06:24 -0500 (Mon, 10 Feb 2025) EndedAt: 2025-02-10 09:08:09 -0500 (Mon, 10 Feb 2025) EllapsedTime: 105.0 seconds RetCode: 0 Status: OK CheckDir: MassSpecWavelet.Rcheck Warnings: 0