Package: MsBackendSql Version: 1.7.3 Command: /home/rapidbuild/bbs-3.21-bioc-rapid/R/bin/R CMD build --keep-empty-dirs --no-resave-data MsBackendSql StartedAt: 2025-02-10 07:16:13 -0500 (Mon, 10 Feb 2025) EndedAt: 2025-02-10 07:17:22 -0500 (Mon, 10 Feb 2025) EllapsedTime: 68.7 seconds RetCode: 0 Status: OK PackageFile: MsBackendSql_1.7.3.tar.gz PackageFileSize: 340.8 KiB