Package: MsDataHub Version: 1.7.0 Command: /home/rapidbuild/bbs-3.21-bioc-rapid/R/bin/R CMD build --keep-empty-dirs --no-resave-data MsDataHub StartedAt: 2025-02-13 13:08:38 -0500 (Thu, 13 Feb 2025) EndedAt: 2025-02-13 13:11:36 -0500 (Thu, 13 Feb 2025) EllapsedTime: 177.9 seconds RetCode: 0 Status: OK PackageFile: MsDataHub_1.7.0.tar.gz PackageFileSize: 368.8 KiB