Package: MsFeatures Version: 1.15.0 Command: /home/rapidbuild/bbs-3.21-bioc-rapid/R/bin/R CMD build --keep-empty-dirs --no-resave-data MsFeatures StartedAt: 2025-02-13 13:09:33 -0500 (Thu, 13 Feb 2025) EndedAt: 2025-02-13 13:10:03 -0500 (Thu, 13 Feb 2025) EllapsedTime: 30.0 seconds RetCode: 0 Status: OK PackageFile: MsFeatures_1.15.0.tar.gz PackageFileSize: 1.433 MiB