Package: MsFeatures Version: 1.15.0 Command: /home/rapidbuild/bbs-3.21-bioc-rapid/R/bin/R CMD INSTALL MsFeatures StartedAt: 2025-02-10 06:20:49 -0500 (Mon, 10 Feb 2025) EndedAt: 2025-02-10 06:21:06 -0500 (Mon, 10 Feb 2025) EllapsedTime: 17.2 seconds RetCode: 0 Status: OK