Package: OrganismDbi Version: 1.49.0 Command: /home/rapidbuild/bbs-3.21-bioc-rapid/R/bin/R CMD check --install=check:OrganismDbi.install-out.txt --library=/home/rapidbuild/bbs-3.21-bioc-rapid/R/site-library --timings OrganismDbi_1.49.0.tar.gz StartedAt: 2025-02-05 09:12:49 -0500 (Wed, 05 Feb 2025) EndedAt: 2025-02-05 09:20:32 -0500 (Wed, 05 Feb 2025) EllapsedTime: 462.8 seconds RetCode: 0 Status: OK CheckDir: OrganismDbi.Rcheck Warnings: 0