Package: OrganismDbi Version: 1.49.0 Command: /home/rapidbuild/bbs-3.21-bioc-rapid/R/bin/R CMD INSTALL OrganismDbi StartedAt: 2025-02-05 06:25:47 -0500 (Wed, 05 Feb 2025) EndedAt: 2025-02-05 06:26:23 -0500 (Wed, 05 Feb 2025) EllapsedTime: 35.9 seconds RetCode: 0 Status: OK