Package: PSMatch Version: 1.11.0 Command: /home/rapidbuild/bbs-3.21-bioc-rapid/R/bin/R CMD build --keep-empty-dirs --no-resave-data PSMatch StartedAt: 2025-02-05 07:21:37 -0500 (Wed, 05 Feb 2025) EndedAt: 2025-02-05 07:22:58 -0500 (Wed, 05 Feb 2025) EllapsedTime: 81.0 seconds RetCode: 0 Status: OK PackageFile: PSMatch_1.11.0.tar.gz PackageFileSize: 1.448 MiB