Package: PSMatch Version: 1.11.0 Command: /home/rapidbuild/bbs-3.21-bioc-rapid/R/bin/R CMD INSTALL PSMatch StartedAt: 2025-02-10 06:23:26 -0500 (Mon, 10 Feb 2025) EndedAt: 2025-02-10 06:23:50 -0500 (Mon, 10 Feb 2025) EllapsedTime: 24.4 seconds RetCode: 0 Status: OK