Package: QFeatures Version: 1.17.1 Command: /home/rapidbuild/bbs-3.21-bioc-rapid/R/bin/R CMD build --keep-empty-dirs --no-resave-data QFeatures StartedAt: 2025-02-05 07:23:49 -0500 (Wed, 05 Feb 2025) EndedAt: 2025-02-05 07:25:04 -0500 (Wed, 05 Feb 2025) EllapsedTime: 75.0 seconds RetCode: 0 Status: OK PackageFile: QFeatures_1.17.1.tar.gz PackageFileSize: 5.437 MiB