Package: QFeatures Version: 1.17.1 Command: /home/rapidbuild/bbs-3.21-bioc-rapid/R/bin/R CMD check --install=check:QFeatures.install-out.txt --library=/home/rapidbuild/bbs-3.21-bioc-rapid/R/site-library --timings QFeatures_1.17.1.tar.gz StartedAt: 2025-02-05 09:17:34 -0500 (Wed, 05 Feb 2025) EndedAt: 2025-02-05 09:24:15 -0500 (Wed, 05 Feb 2025) EllapsedTime: 401.1 seconds RetCode: 0 Status: OK CheckDir: QFeatures.Rcheck Warnings: 0