Package: QFeatures Version: 1.17.1 Command: /home/rapidbuild/bbs-3.21-bioc-rapid/R/bin/R CMD INSTALL QFeatures StartedAt: 2025-02-05 06:22:13 -0500 (Wed, 05 Feb 2025) EndedAt: 2025-02-05 06:22:40 -0500 (Wed, 05 Feb 2025) EllapsedTime: 26.7 seconds RetCode: 0 Status: OK