Package: Rdisop Version: 1.67.5 Command: /home/rapidbuild/bbs-3.21-bioc-rapid/R/bin/R CMD INSTALL Rdisop StartedAt: 2025-02-10 06:07:39 -0500 (Mon, 10 Feb 2025) EndedAt: 2025-02-10 06:08:20 -0500 (Mon, 10 Feb 2025) EllapsedTime: 40.0 seconds RetCode: 0 Status: OK