Package: SPIA Version: 2.59.2 Command: /home/rapidbuild/bbs-3.21-bioc-rapid/R/bin/R CMD check --install=check:SPIA.install-out.txt --library=/home/rapidbuild/bbs-3.21-bioc-rapid/R/site-library --timings SPIA_2.59.2.tar.gz StartedAt: 2025-02-10 09:39:52 -0500 (Mon, 10 Feb 2025) EndedAt: 2025-02-10 09:47:34 -0500 (Mon, 10 Feb 2025) EllapsedTime: 462.3 seconds RetCode: 0 Status: OK CheckDir: SPIA.Rcheck Warnings: 0