Package: SingleCellExperiment Version: 1.29.1 Command: /home/rapidbuild/bbs-3.21-bioc-rapid/R/bin/R CMD INSTALL SingleCellExperiment StartedAt: 2025-02-10 06:18:56 -0500 (Mon, 10 Feb 2025) EndedAt: 2025-02-10 06:19:17 -0500 (Mon, 10 Feb 2025) EllapsedTime: 20.8 seconds RetCode: 0 Status: OK