Package: SummarizedExperiment Version: 1.37.0 Command: /home/rapidbuild/bbs-3.21-bioc-rapid/R/bin/R CMD build --keep-empty-dirs --no-resave-data SummarizedExperiment StartedAt: 2025-02-13 13:32:02 -0500 (Thu, 13 Feb 2025) EndedAt: 2025-02-13 13:32:43 -0500 (Thu, 13 Feb 2025) EllapsedTime: 40.9 seconds RetCode: 0 Status: OK PackageFile: SummarizedExperiment_1.37.0.tar.gz PackageFileSize: 672.9 KiB