Package: SummarizedExperiment Version: 1.37.0 Command: /home/rapidbuild/bbs-3.21-bioc-rapid/R/bin/R CMD INSTALL SummarizedExperiment StartedAt: 2025-02-10 06:18:32 -0500 (Mon, 10 Feb 2025) EndedAt: 2025-02-10 06:18:54 -0500 (Mon, 10 Feb 2025) EllapsedTime: 22.0 seconds RetCode: 0 Status: OK