Package: affyPLM Version: 1.83.3 Command: /home/rapidbuild/bbs-3.21-bioc-rapid/R/bin/R CMD check --install=check:affyPLM.install-out.txt --library=/home/rapidbuild/bbs-3.21-bioc-rapid/R/site-library --timings affyPLM_1.83.3.tar.gz StartedAt: 2025-02-10 07:52:19 -0500 (Mon, 10 Feb 2025) EndedAt: 2025-02-10 07:56:00 -0500 (Mon, 10 Feb 2025) EllapsedTime: 220.3 seconds RetCode: 0 Status: WARNINGS CheckDir: affyPLM.Rcheck Warnings: 1