Package: affyPLM Version: 1.83.3 Command: /home/rapidbuild/bbs-3.21-bioc-rapid/R/bin/R CMD INSTALL affyPLM StartedAt: 2025-02-10 06:27:56 -0500 (Mon, 10 Feb 2025) EndedAt: 2025-02-10 06:28:12 -0500 (Mon, 10 Feb 2025) EllapsedTime: 16.4 seconds RetCode: 0 Status: OK