Package: alabaster.se Version: 1.7.0 Command: /home/rapidbuild/bbs-3.21-bioc-rapid/R/bin/R CMD build --keep-empty-dirs --no-resave-data alabaster.se StartedAt: 2025-02-10 06:32:25 -0500 (Mon, 10 Feb 2025) EndedAt: 2025-02-10 06:33:16 -0500 (Mon, 10 Feb 2025) EllapsedTime: 50.9 seconds RetCode: 0 Status: OK PackageFile: alabaster.se_1.7.0.tar.gz PackageFileSize: 225.2 KiB