Package: aroma.light Version: 3.37.0 Command: /home/rapidbuild/bbs-3.21-bioc-rapid/R/bin/R CMD INSTALL aroma.light StartedAt: 2025-02-10 06:10:11 -0500 (Mon, 10 Feb 2025) EndedAt: 2025-02-10 06:10:14 -0500 (Mon, 10 Feb 2025) EllapsedTime: 3.2 seconds RetCode: 0 Status: OK