Package: basilisk Version: 1.19.1 Maintainer: Aaron Lun MaintainerEmail: infinite.monkeys.with.keyboards at gmail.com git_url: https://git.bioconductor.org/packages/basilisk git_branch: devel git_last_commit: d962fd4 git_last_commit_date: 2025-02-11 15:32:51 -0500 (Tue, 11 Feb 2025)