Package: beachmat Version: 2.23.6 Command: /home/rapidbuild/bbs-3.21-bioc-rapid/R/bin/R CMD INSTALL beachmat StartedAt: 2025-02-10 06:15:14 -0500 (Mon, 10 Feb 2025) EndedAt: 2025-02-10 06:19:14 -0500 (Mon, 10 Feb 2025) EllapsedTime: 240.3 seconds RetCode: 0 Status: OK