Package: bluster Version: 1.17.0 Command: /home/rapidbuild/bbs-3.21-bioc-rapid/R/bin/R CMD check --install=check:bluster.install-out.txt --library=/home/rapidbuild/bbs-3.21-bioc-rapid/R/site-library --timings bluster_1.17.0.tar.gz StartedAt: 2025-02-10 08:10:16 -0500 (Mon, 10 Feb 2025) EndedAt: 2025-02-10 08:14:43 -0500 (Mon, 10 Feb 2025) EllapsedTime: 266.4 seconds RetCode: 0 Status: OK CheckDir: bluster.Rcheck Warnings: 0