Package: bluster Version: 1.17.0 Command: /home/rapidbuild/bbs-3.21-bioc-rapid/R/bin/R CMD INSTALL bluster StartedAt: 2025-02-13 12:14:04 -0500 (Thu, 13 Feb 2025) EndedAt: 2025-02-13 12:14:22 -0500 (Thu, 13 Feb 2025) EllapsedTime: 18.4 seconds RetCode: 0 Status: OK