Package: chihaya Version: 1.7.0 Command: /home/rapidbuild/bbs-3.21-bioc-rapid/R/bin/R CMD check --install=check:chihaya.install-out.txt --library=/home/rapidbuild/bbs-3.21-bioc-rapid/R/site-library --timings chihaya_1.7.0.tar.gz StartedAt: 2025-02-10 08:17:54 -0500 (Mon, 10 Feb 2025) EndedAt: 2025-02-10 08:20:41 -0500 (Mon, 10 Feb 2025) EllapsedTime: 167.0 seconds RetCode: 0 Status: WARNINGS CheckDir: chihaya.Rcheck Warnings: 1