Package: chihaya Version: 1.7.0 Command: /home/rapidbuild/bbs-3.21-bioc-rapid/R/bin/R CMD INSTALL chihaya StartedAt: 2025-02-10 06:15:52 -0500 (Mon, 10 Feb 2025) EndedAt: 2025-02-10 06:16:26 -0500 (Mon, 10 Feb 2025) EllapsedTime: 34.4 seconds RetCode: 0 Status: OK