Package: edgeR Version: 4.5.2 Command: /home/rapidbuild/bbs-3.21-bioc-rapid/R/bin/R CMD INSTALL edgeR StartedAt: 2025-02-10 06:09:38 -0500 (Mon, 10 Feb 2025) EndedAt: 2025-02-10 06:09:50 -0500 (Mon, 10 Feb 2025) EllapsedTime: 11.2 seconds RetCode: 0 Status: OK