Package: eds Version: 1.9.0 Command: /home/rapidbuild/bbs-3.21-bioc-rapid/R/bin/R CMD build --keep-empty-dirs --no-resave-data eds StartedAt: 2025-02-10 06:49:39 -0500 (Mon, 10 Feb 2025) EndedAt: 2025-02-10 06:49:53 -0500 (Mon, 10 Feb 2025) EllapsedTime: 14.0 seconds RetCode: 0 Status: OK PackageFile: eds_1.9.0.tar.gz PackageFileSize: 217.4 KiB