Package: eds Version: 1.9.0 Command: /home/rapidbuild/bbs-3.21-bioc-rapid/R/bin/R CMD INSTALL eds StartedAt: 2025-02-10 06:09:12 -0500 (Mon, 10 Feb 2025) EndedAt: 2025-02-10 06:09:23 -0500 (Mon, 10 Feb 2025) EllapsedTime: 11.0 seconds RetCode: 0 Status: OK