Package: enrichplot Version: 1.27.4 Command: /home/rapidbuild/bbs-3.21-bioc-rapid/R/bin/R CMD check --install=check:enrichplot.install-out.txt --library=/home/rapidbuild/bbs-3.21-bioc-rapid/R/site-library --timings enrichplot_1.27.4.tar.gz StartedAt: 2025-02-10 08:29:36 -0500 (Mon, 10 Feb 2025) EndedAt: 2025-02-10 08:31:41 -0500 (Mon, 10 Feb 2025) EllapsedTime: 125.3 seconds RetCode: 0 Status: OK CheckDir: enrichplot.Rcheck Warnings: 0