Package: enrichplot Version: 1.27.4 Command: /home/rapidbuild/bbs-3.21-bioc-rapid/R/bin/R CMD INSTALL enrichplot StartedAt: 2025-02-04 12:25:10 -0500 (Tue, 04 Feb 2025) EndedAt: 2025-02-04 12:25:27 -0500 (Tue, 04 Feb 2025) EllapsedTime: 17.8 seconds RetCode: 0 Status: OK