Package: fgsea Version: 1.33.2 Command: /home/rapidbuild/bbs-3.21-bioc-rapid/R/bin/R CMD INSTALL fgsea StartedAt: 2025-02-10 06:16:40 -0500 (Mon, 10 Feb 2025) EndedAt: 2025-02-10 06:17:11 -0500 (Mon, 10 Feb 2025) EllapsedTime: 30.8 seconds RetCode: 0 Status: OK