Package: flowViz Version: 1.71.0 Command: /home/rapidbuild/bbs-3.21-bioc-rapid/R/bin/R CMD build --keep-empty-dirs --no-resave-data flowViz StartedAt: 2025-02-13 12:49:37 -0500 (Thu, 13 Feb 2025) EndedAt: 2025-02-13 12:50:31 -0500 (Thu, 13 Feb 2025) EllapsedTime: 53.3 seconds RetCode: 0 Status: OK PackageFile: flowViz_1.71.0.tar.gz PackageFileSize: 989.3 KiB