Package: ggcyto Version: 1.35.0 Command: /home/rapidbuild/bbs-3.21-bioc-rapid/R/bin/R CMD build --keep-empty-dirs --no-resave-data ggcyto StartedAt: 2025-02-10 07:01:06 -0500 (Mon, 10 Feb 2025) EndedAt: 2025-02-10 07:02:18 -0500 (Mon, 10 Feb 2025) EllapsedTime: 71.9 seconds RetCode: 0 Status: OK PackageFile: ggcyto_1.35.0.tar.gz PackageFileSize: 21.38 MiB