Package: ggcyto Version: 1.35.0 Command: /home/rapidbuild/bbs-3.21-bioc-rapid/R/bin/R CMD check --install=check:ggcyto.install-out.txt --library=/home/rapidbuild/bbs-3.21-bioc-rapid/R/site-library --timings ggcyto_1.35.0.tar.gz StartedAt: 2025-02-10 08:52:35 -0500 (Mon, 10 Feb 2025) EndedAt: 2025-02-10 08:55:39 -0500 (Mon, 10 Feb 2025) EllapsedTime: 184.5 seconds RetCode: 0 Status: WARNINGS CheckDir: ggcyto.Rcheck Warnings: 2