Package: glmGamPoi Version: 1.19.2 Command: /home/rapidbuild/bbs-3.21-bioc-rapid/R/bin/R CMD build --keep-empty-dirs --no-resave-data glmGamPoi StartedAt: 2025-02-04 12:55:27 -0500 (Tue, 04 Feb 2025) EndedAt: 2025-02-04 13:00:43 -0500 (Tue, 04 Feb 2025) EllapsedTime: 315.8 seconds RetCode: 0 Status: OK PackageFile: glmGamPoi_1.19.2.tar.gz PackageFileSize: 2.095 MiB