Package: glmGamPoi Version: 1.19.2 Command: /home/rapidbuild/bbs-3.21-bioc-rapid/R/bin/R CMD check --install=check:glmGamPoi.install-out.txt --library=/home/rapidbuild/bbs-3.21-bioc-rapid/R/site-library --timings glmGamPoi_1.19.2.tar.gz StartedAt: 2025-02-10 08:53:57 -0500 (Mon, 10 Feb 2025) EndedAt: 2025-02-10 09:01:18 -0500 (Mon, 10 Feb 2025) EllapsedTime: 441.3 seconds RetCode: 1 Status: ERROR CheckDir: glmGamPoi.Rcheck Warnings: NA