Package: gpls Version: 1.79.0 Command: /home/rapidbuild/bbs-3.21-bioc-rapid/R/bin/R CMD build --keep-empty-dirs --no-resave-data gpls StartedAt: 2025-02-10 07:02:39 -0500 (Mon, 10 Feb 2025) EndedAt: 2025-02-10 07:02:48 -0500 (Mon, 10 Feb 2025) EllapsedTime: 9.0 seconds RetCode: 0 Status: OK PackageFile: gpls_1.79.0.tar.gz PackageFileSize: 233.1 KiB