Package: graph Version: 1.85.1 Command: /home/rapidbuild/bbs-3.21-bioc-rapid/R/bin/R CMD build --keep-empty-dirs --no-resave-data graph StartedAt: 2025-02-10 07:02:48 -0500 (Mon, 10 Feb 2025) EndedAt: 2025-02-10 07:03:12 -0500 (Mon, 10 Feb 2025) EllapsedTime: 24.0 seconds RetCode: 0 Status: OK PackageFile: graph_1.85.1.tar.gz PackageFileSize: 1.429 MiB