Package: graph Version: 1.85.1 Command: /home/rapidbuild/bbs-3.21-bioc-rapid/R/bin/R CMD check --install=check:graph.install-out.txt --library=/home/rapidbuild/bbs-3.21-bioc-rapid/R/site-library --timings graph_1.85.1.tar.gz StartedAt: 2025-02-10 08:54:39 -0500 (Mon, 10 Feb 2025) EndedAt: 2025-02-10 08:55:26 -0500 (Mon, 10 Feb 2025) EllapsedTime: 46.3 seconds RetCode: 1 Status: ERROR CheckDir: graph.Rcheck Warnings: NA